BEGIN:VCALENDAR
VERSION:2.0
PRODID:-//West Point Thoroughbreds - ECPv6.15.12.2//NONSGML v1.0//EN
CALSCALE:GREGORIAN
METHOD:PUBLISH
X-WR-CALNAME:West Point Thoroughbreds
X-ORIGINAL-URL:https://www.westpointtb.com
X-WR-CALDESC:Events for West Point Thoroughbreds
REFRESH-INTERVAL;VALUE=DURATION:PT1H
X-Robots-Tag:noindex
X-PUBLISHED-TTL:PT1H
BEGIN:VTIMEZONE
TZID:America/New_York
BEGIN:DAYLIGHT
TZOFFSETFROM:-0500
TZOFFSETTO:-0400
TZNAME:EDT
DTSTART:20110313T070000
END:DAYLIGHT
BEGIN:STANDARD
TZOFFSETFROM:-0400
TZOFFSETTO:-0500
TZNAME:EST
DTSTART:20111106T060000
END:STANDARD
BEGIN:DAYLIGHT
TZOFFSETFROM:-0500
TZOFFSETTO:-0400
TZNAME:EDT
DTSTART:20120311T070000
END:DAYLIGHT
BEGIN:STANDARD
TZOFFSETFROM:-0400
TZOFFSETTO:-0500
TZNAME:EST
DTSTART:20121104T060000
END:STANDARD
BEGIN:DAYLIGHT
TZOFFSETFROM:-0500
TZOFFSETTO:-0400
TZNAME:EDT
DTSTART:20130310T070000
END:DAYLIGHT
BEGIN:STANDARD
TZOFFSETFROM:-0400
TZOFFSETTO:-0500
TZNAME:EST
DTSTART:20131103T060000
END:STANDARD
BEGIN:DAYLIGHT
TZOFFSETFROM:-0500
TZOFFSETTO:-0400
TZNAME:EDT
DTSTART:20140309T070000
END:DAYLIGHT
BEGIN:STANDARD
TZOFFSETFROM:-0400
TZOFFSETTO:-0500
TZNAME:EST
DTSTART:20141102T060000
END:STANDARD
BEGIN:DAYLIGHT
TZOFFSETFROM:-0500
TZOFFSETTO:-0400
TZNAME:EDT
DTSTART:20150308T070000
END:DAYLIGHT
BEGIN:STANDARD
TZOFFSETFROM:-0400
TZOFFSETTO:-0500
TZNAME:EST
DTSTART:20151101T060000
END:STANDARD
END:VTIMEZONE
BEGIN:VEVENT
DTSTART;TZID=America/New_York:20140407T000000
DTEND;TZID=America/New_York:20140407T000000
DTSTAMP:20260424T112017
CREATED:20140214T204103Z
LAST-MODIFIED:20140214T204103Z
UID:58620-1396828800-1396828800@www.westpointtb.com
SUMMARY:Keeneland 2YO Sale
DESCRIPTION:Breeze show Friday\, April 4 \n\n	Catalogue link will be posted when available.  \n\n	Breeze show Friday\, April 4 \n\n	Catalogue link will be posted when available.  \n\n	Please let us know if you're interested in joining us on the sales grounds. We've have quite a bit of interest from Partners already — it's a great learning experience!
URL:https://www.westpointtb.com/event/keeneland-2yo-sale/
END:VEVENT
BEGIN:VEVENT
DTSTART;TZID=America/New_York:20140324T000000
DTEND;TZID=America/New_York:20140324T000000
DTSTAMP:20260424T112017
CREATED:20140214T203957Z
LAST-MODIFIED:20140214T203957Z
UID:58619-1395619200-1395619200@www.westpointtb.com
SUMMARY:Fasig-Tipton 2YO Sale in Williston\, Florida
DESCRIPTION:Breeze show Friday\, March 21 \n\n	Breeze show Friday\, March 21 \n\n	Click here to view the catalogue.  \n\n	Please let us know if you're interested in joining us on the sales grounds. We've have quite a bit of interest from Partners already — it's a great learning experience!
URL:https://www.westpointtb.com/event/fasig-tipton-2yo-sale-in-williston-florida/
END:VEVENT
BEGIN:VEVENT
DTSTART;TZID=America/New_York:20140310T000000
DTEND;TZID=America/New_York:20140310T000000
DTSTAMP:20260424T112017
CREATED:20140214T202901Z
LAST-MODIFIED:20140214T202901Z
UID:58616-1394409600-1394409600@www.westpointtb.com
SUMMARY:OBS March Sale in Ocala\, Florida
DESCRIPTION:Under Tack Show March 10 & 11 \n\n	Under Tack Show March 10 & 11 \n\n	Click here to view the catalogue. \n\n	Please let us know if you're interested in joining us on the sales grounds. We've have quite a bit of interest from Partners already — it's a great learning experience!
URL:https://www.westpointtb.com/event/obs-march-sale-in-ocala-florida/
END:VEVENT
BEGIN:VEVENT
DTSTART;TZID=America/New_York:20140308T000000
DTEND;TZID=America/New_York:20140308T000000
DTSTAMP:20260424T112017
CREATED:20140214T203454Z
LAST-MODIFIED:20140214T203454Z
UID:58617-1394236800-1394236800@www.westpointtb.com
SUMMARY:Morning at Crupi's New Castle Farm
DESCRIPTION:Join Terry Finley\, Jeff Lifson\, Erin Finley\, and Clif Hickok for a morning at Crupi's New Castle Farm in Ocala.  \n\n	Join Terry Finley\, Jeff Lifson\, Erin Finley\, and Clif Hickok for a morning at Crupi's New Castle Farm in Ocala.  \n\n	Tentatively scheduled to begin at 8:00 am. Bring your friends and family! \n\n	RSVP to Debbie at debbie@westpointtb.com 
URL:https://www.westpointtb.com/event/morning-at-crupis-new-castle-farm/
END:VEVENT
BEGIN:VEVENT
DTSTART;TZID=America/New_York:20140303T000000
DTEND;TZID=America/New_York:20140303T000000
DTSTAMP:20260424T112017
CREATED:20140214T202649Z
LAST-MODIFIED:20140214T202649Z
UID:58615-1393804800-1393804800@www.westpointtb.com
SUMMARY:Barretts 2YO Sale in Pomona\, California
DESCRIPTION:Under Tack Show is Friday\, February 28 \n\n	Click here to view the catalogue.  \n\n	Under Tack Show is Friday\, February 28 \n\n	Click here to view the catalogue.  \n\n	Please let us know if you're interested in joining us on the sales grounds. We've have quite a bit of interest from Partners already — it's a great learning experience!
URL:https://www.westpointtb.com/event/barretts-2yo-sale-in-pomona-california/
END:VEVENT
BEGIN:VEVENT
DTSTART;TZID=America/New_York:20140301T000000
DTEND;TZID=America/New_York:20140301T000000
DTSTAMP:20260424T112017
CREATED:20140214T203810Z
LAST-MODIFIED:20140214T203810Z
UID:58618-1393632000-1393632000@www.westpointtb.com
SUMMARY:Breakfast at Clocker's Corner at Santa Anita
DESCRIPTION:Join Terry Finley\, Erin Finley\, Jeff Lifson\, and the Dollase team for breakfast and morning training at Santa Anita's Clockers Corner. \n\n	Join Terry Finley\, Erin Finley\, Jeff Lifson\, and the Dollase team for breakfast and morning training at Santa Anita's Clockers Corner. \n\n	RSVP to debbie@westpointtb.com and she'll provide you with more details\, including start time. 
URL:https://www.westpointtb.com/event/breakfast-at-clockers-corner-at-santa-anita/
END:VEVENT
BEGIN:VEVENT
DTSTART;TZID=America/New_York:20130520T000000
DTEND;TZID=America/New_York:20130520T000000
DTSTAMP:20260424T112017
CREATED:20130117T045207Z
LAST-MODIFIED:20130117T045207Z
UID:58613-1369008000-1369008000@www.westpointtb.com
SUMMARY:Fasig-Tipton Midlantic 2-Year-Olds in Training Sale
DESCRIPTION:Click here to visit the Fasig-Tipton website  \n\n	Click here to visit the Fasig-Tipton website 
URL:https://www.westpointtb.com/event/fasig-tipton-midlantic-2-year-olds-in-training-sale/
END:VEVENT
BEGIN:VEVENT
DTSTART;TZID=America/New_York:20130504T000000
DTEND;TZID=America/New_York:20130504T000000
DTSTAMP:20260424T112017
CREATED:20121205T012615Z
LAST-MODIFIED:20121205T012615Z
UID:58605-1367625600-1367625600@www.westpointtb.com
SUMMARY:Kentucky Derby- Churchill Downs
DESCRIPTION:
URL:https://www.westpointtb.com/event/kentucky-derby-churchill-downs-2/
END:VEVENT
BEGIN:VEVENT
DTSTART;TZID=America/New_York:20130503T000000
DTEND;TZID=America/New_York:20130503T000000
DTSTAMP:20260424T112017
CREATED:20121205T012647Z
LAST-MODIFIED:20121205T012647Z
UID:58606-1367539200-1367539200@www.westpointtb.com
SUMMARY:Kentucky Oaks- Churchill Downs
DESCRIPTION:
URL:https://www.westpointtb.com/event/kentucky-oaks-churchill-downs/
END:VEVENT
BEGIN:VEVENT
DTSTART;TZID=America/New_York:20130422T000000
DTEND;TZID=America/New_York:20130422T000000
DTSTAMP:20260424T112017
CREATED:20130128T184301Z
LAST-MODIFIED:20130128T184301Z
UID:58614-1366588800-1366588800@www.westpointtb.com
SUMMARY:OBS April 2-Year-Old in Training Sale
DESCRIPTION:Click here to see the catalogue  \n\n	Ocala\, Florida  \n\n	Click here to see the catalogue  \n\n	Ocala\, Florida 
URL:https://www.westpointtb.com/event/obs-april-2-year-old-in-training-sale/
END:VEVENT
BEGIN:VEVENT
DTSTART;TZID=America/New_York:20130408T000000
DTEND;TZID=America/New_York:20130408T000000
DTSTAMP:20260424T112017
CREATED:20130117T045113Z
LAST-MODIFIED:20130117T045113Z
UID:58612-1365379200-1365379200@www.westpointtb.com
SUMMARY:Keeneland 2-Year-Olds in Training Sale
DESCRIPTION:Click here to visit Keeneland sales website  \n\n	Click here to visit Keeneland sales website 
URL:https://www.westpointtb.com/event/keeneland-2-year-olds-in-training-sale/
END:VEVENT
BEGIN:VEVENT
DTSTART;TZID=America/New_York:20130330T000000
DTEND;TZID=America/New_York:20130330T000000
DTSTAMP:20260424T112017
CREATED:20121205T012826Z
LAST-MODIFIED:20121205T012826Z
UID:58607-1364601600-1364601600@www.westpointtb.com
SUMMARY:Dubai World Cup
DESCRIPTION:
URL:https://www.westpointtb.com/event/dubai-world-cup/
END:VEVENT
BEGIN:VEVENT
DTSTART;TZID=America/New_York:20130325T000000
DTEND;TZID=America/New_York:20130325T000000
DTSTAMP:20260424T112017
CREATED:20121205T013035Z
LAST-MODIFIED:20121205T013035Z
UID:58608-1364169600-1364169600@www.westpointtb.com
SUMMARY:Fasig-Tipton Florida 2-Year-Olds in Training Sale
DESCRIPTION:Boynton Beach\, Florida  \n\n	Click here to visit the Fasig-Tipton website \n\n	Boynton Beach\, Florida  \n\n	Click here to visit the Fasig-Tipton website
URL:https://www.westpointtb.com/event/fasig-tipton-florida-2-year-olds-in-training-sale/
END:VEVENT
BEGIN:VEVENT
DTSTART;TZID=America/New_York:20130312T000000
DTEND;TZID=America/New_York:20130312T000000
DTSTAMP:20260424T112017
CREATED:20121205T013301Z
LAST-MODIFIED:20121205T013301Z
UID:58609-1363046400-1363046400@www.westpointtb.com
SUMMARY:OBS Select 2-Year-Olds in Training Sale
DESCRIPTION:Ocala\, Florida \n\n	Click here to visit the OBS website \n\n	Ocala\, Florida \n\n	Click here to visit the OBS website
URL:https://www.westpointtb.com/event/obs-select-2-year-olds-in-training-sale/
END:VEVENT
BEGIN:VEVENT
DTSTART;TZID=America/New_York:20130304T000000
DTEND;TZID=America/New_York:20130304T000000
DTSTAMP:20260424T112017
CREATED:20130117T045006Z
LAST-MODIFIED:20130117T045006Z
UID:58611-1362355200-1362355200@www.westpointtb.com
SUMMARY:Barretts March 2-Year-Olds in Training Sale
DESCRIPTION:Click here to visit the Baretts website \n\n	Click here to visit the Baretts website
URL:https://www.westpointtb.com/event/barretts-march-2-year-olds-in-training-sale/
END:VEVENT
BEGIN:VEVENT
DTSTART;TZID=America/New_York:20121208T000000
DTEND;TZID=America/New_York:20121208T000000
DTSTAMP:20260424T112017
CREATED:20121205T013444Z
LAST-MODIFIED:20121205T013444Z
UID:58610-1354924800-1354924800@www.westpointtb.com
SUMMARY:Visit Yearlings in Ocala
DESCRIPTION:Click here for more info  \n\n	Click here for more info 
URL:https://www.westpointtb.com/event/visit-yearlings-in-ocala/
END:VEVENT
BEGIN:VEVENT
DTSTART;TZID=America/New_York:20121102T000000
DTEND;TZID=America/New_York:20121102T000000
DTSTAMP:20260424T112017
CREATED:20111202T024452Z
LAST-MODIFIED:20111202T024452Z
UID:58597-1351814400-1351814400@www.westpointtb.com
SUMMARY:Breeders' Cup at Santa Anita
DESCRIPTION:
URL:https://www.westpointtb.com/event/breeders-cup-at-santa-anita/
END:VEVENT
BEGIN:VEVENT
DTSTART;TZID=America/New_York:20120720T000000
DTEND;TZID=America/New_York:20120720T000000
DTSTAMP:20260424T112017
CREATED:20111202T024412Z
LAST-MODIFIED:20111202T024412Z
UID:58596-1342742400-1342742400@www.westpointtb.com
SUMMARY:Saratoga Begins
DESCRIPTION:
URL:https://www.westpointtb.com/event/saratoga-begins/
END:VEVENT
BEGIN:VEVENT
DTSTART;TZID=America/New_York:20120718T000000
DTEND;TZID=America/New_York:20120718T000000
DTSTAMP:20260424T112017
CREATED:20111202T024347Z
LAST-MODIFIED:20111202T024347Z
UID:58595-1342569600-1342569600@www.westpointtb.com
SUMMARY:Del Mar Meet Begins
DESCRIPTION:
URL:https://www.westpointtb.com/event/del-mar-meet-begins/
END:VEVENT
BEGIN:VEVENT
DTSTART;TZID=America/New_York:20120609T000000
DTEND;TZID=America/New_York:20120609T000000
DTSTAMP:20260424T112017
CREATED:20111202T024320Z
LAST-MODIFIED:20111202T024320Z
UID:58594-1339200000-1339200000@www.westpointtb.com
SUMMARY:Belmont Stakes
DESCRIPTION:
URL:https://www.westpointtb.com/event/belmont-stakes/
END:VEVENT
BEGIN:VEVENT
DTSTART;TZID=America/New_York:20120602T000000
DTEND;TZID=America/New_York:20120602T000000
DTSTAMP:20260424T112017
CREATED:20120524T180728Z
LAST-MODIFIED:20120524T180728Z
UID:58604-1338595200-1338595200@www.westpointtb.com
SUMMARY:Jeff Lifson and Shannon Castagnola Showcase 2YOS at Churchill Downs
DESCRIPTION:Click here for more information.  \n\n	Click here for more information. 
URL:https://www.westpointtb.com/event/jeff-lifson-and-shannon-castagnola-showcase-2yos-at-churchill-downs/
END:VEVENT
BEGIN:VEVENT
DTSTART;TZID=America/New_York:20120521T000000
DTEND;TZID=America/New_York:20120521T000000
DTSTAMP:20260424T112017
CREATED:20111202T024139Z
LAST-MODIFIED:20111202T024139Z
UID:58591-1337558400-1337558400@www.westpointtb.com
SUMMARY:Midlantic 2YOS in Training Sale-Timonium\, MD
DESCRIPTION:http://www.fasigtipton.com/calendars/index/2012
URL:https://www.westpointtb.com/event/midlantic-2yos-in-training-sale-timonium-md/
END:VEVENT
BEGIN:VEVENT
DTSTART;TZID=America/New_York:20120519T000000
DTEND;TZID=America/New_York:20120519T000000
DTSTAMP:20260424T112017
CREATED:20111202T024255Z
LAST-MODIFIED:20111202T024255Z
UID:58593-1337385600-1337385600@www.westpointtb.com
SUMMARY:Preakness Stakes - Pimlico
DESCRIPTION:
URL:https://www.westpointtb.com/event/preakness-stakes-pimlico/
END:VEVENT
BEGIN:VEVENT
DTSTART;TZID=America/New_York:20120505T000000
DTEND;TZID=America/New_York:20120505T000000
DTSTAMP:20260424T112017
CREATED:20111202T024020Z
LAST-MODIFIED:20111202T024020Z
UID:58590-1336176000-1336176000@www.westpointtb.com
SUMMARY:Kentucky Derby-Churchill Downs
DESCRIPTION:
URL:https://www.westpointtb.com/event/kentucky-derby-churchill-downs/
END:VEVENT
BEGIN:VEVENT
DTSTART;TZID=America/New_York:20120423T000000
DTEND;TZID=America/New_York:20120423T000000
DTSTAMP:20260424T112017
CREATED:20120328T191948Z
LAST-MODIFIED:20120328T191948Z
UID:58603-1335139200-1335139200@www.westpointtb.com
SUMMARY:OBS April 2YO Sale- Ocala\, FL
DESCRIPTION:Click here to visit the OBS website to view the catalogue.  \n\n	Click here to visit the OBS website to view the catalogue. 
URL:https://www.westpointtb.com/event/obs-april-2yo-sale-ocala-fl/
END:VEVENT
BEGIN:VEVENT
DTSTART;TZID=America/New_York:20120414T000000
DTEND;TZID=America/New_York:20120414T000000
DTSTAMP:20260424T112017
CREATED:20111202T023744Z
LAST-MODIFIED:20111202T023744Z
UID:58589-1334361600-1334361600@www.westpointtb.com
SUMMARY:Bluegrass Stakes- Keeneland
DESCRIPTION:
URL:https://www.westpointtb.com/event/bluegrass-stakes-keeneland/
END:VEVENT
BEGIN:VEVENT
DTSTART;TZID=America/New_York:20120414T000000
DTEND;TZID=America/New_York:20120414T000000
DTSTAMP:20260424T112017
CREATED:20111202T023714Z
LAST-MODIFIED:20111202T023714Z
UID:58588-1334361600-1334361600@www.westpointtb.com
SUMMARY:WPT 2YO Event at Kirkwood Stables
DESCRIPTION:Details to follow in early 2012.  \n\n	Details to follow in early 2012. 
URL:https://www.westpointtb.com/event/wpt-2yo-event-at-kirkwood-stables/
END:VEVENT
BEGIN:VEVENT
DTSTART;TZID=America/New_York:20120409T000000
DTEND;TZID=America/New_York:20120409T000000
DTSTAMP:20260424T112017
CREATED:20111202T023615Z
LAST-MODIFIED:20111202T023615Z
UID:58587-1333929600-1333929600@www.westpointtb.com
SUMMARY:Keeneland 2YO in Training Sale
DESCRIPTION:http://www.keeneland.com/default.aspx \n\n	http://www.keeneland.com/default.aspx \n\n	Lexington\, Kentucky 
URL:https://www.westpointtb.com/event/keeneland-2yo-in-training-sale/
END:VEVENT
BEGIN:VEVENT
DTSTART;TZID=America/New_York:20120408T000000
DTEND;TZID=America/New_York:20120408T000000
DTSTAMP:20260424T112017
CREATED:20111202T023522Z
LAST-MODIFIED:20111202T023522Z
UID:58586-1333843200-1333843200@www.westpointtb.com
SUMMARY:Easter
DESCRIPTION:
URL:https://www.westpointtb.com/event/easter/
END:VEVENT
BEGIN:VEVENT
DTSTART;TZID=America/New_York:20120406T000000
DTEND;TZID=America/New_York:20120406T000000
DTSTAMP:20260424T112017
CREATED:20111202T024228Z
LAST-MODIFIED:20111202T024228Z
UID:58592-1333670400-1333670400@www.westpointtb.com
SUMMARY:Keeneland Spring Meet Begins
DESCRIPTION:
URL:https://www.westpointtb.com/event/keeneland-spring-meet-begins/
END:VEVENT
END:VCALENDAR