BEGIN:VCALENDAR
VERSION:2.0
PRODID:-//West Point Thoroughbreds - ECPv6.15.12.2//NONSGML v1.0//EN
CALSCALE:GREGORIAN
METHOD:PUBLISH
X-WR-CALNAME:West Point Thoroughbreds
X-ORIGINAL-URL:https://www.westpointtb.com
X-WR-CALDESC:Events for West Point Thoroughbreds
REFRESH-INTERVAL;VALUE=DURATION:PT1H
X-Robots-Tag:noindex
X-PUBLISHED-TTL:PT1H
BEGIN:VTIMEZONE
TZID:America/New_York
BEGIN:DAYLIGHT
TZOFFSETFROM:-0500
TZOFFSETTO:-0400
TZNAME:EDT
DTSTART:20100314T070000
END:DAYLIGHT
BEGIN:STANDARD
TZOFFSETFROM:-0400
TZOFFSETTO:-0500
TZNAME:EST
DTSTART:20101107T060000
END:STANDARD
BEGIN:DAYLIGHT
TZOFFSETFROM:-0500
TZOFFSETTO:-0400
TZNAME:EDT
DTSTART:20110313T070000
END:DAYLIGHT
BEGIN:STANDARD
TZOFFSETFROM:-0400
TZOFFSETTO:-0500
TZNAME:EST
DTSTART:20111106T060000
END:STANDARD
BEGIN:DAYLIGHT
TZOFFSETFROM:-0500
TZOFFSETTO:-0400
TZNAME:EDT
DTSTART:20120311T070000
END:DAYLIGHT
BEGIN:STANDARD
TZOFFSETFROM:-0400
TZOFFSETTO:-0500
TZNAME:EST
DTSTART:20121104T060000
END:STANDARD
BEGIN:DAYLIGHT
TZOFFSETFROM:-0500
TZOFFSETTO:-0400
TZNAME:EDT
DTSTART:20130310T070000
END:DAYLIGHT
BEGIN:STANDARD
TZOFFSETFROM:-0400
TZOFFSETTO:-0500
TZNAME:EST
DTSTART:20131103T060000
END:STANDARD
END:VTIMEZONE
BEGIN:VEVENT
DTSTART;TZID=America/New_York:20120128T000000
DTEND;TZID=America/New_York:20120128T000000
DTSTAMP:20260424T164216
CREATED:20120120T194649Z
LAST-MODIFIED:20120120T194649Z
UID:58600-1327708800-1327708800@www.westpointtb.com
SUMMARY:Arlington Park Trackside Event in Chicago
DESCRIPTION:
URL:https://www.westpointtb.com/event/arlington-park-trackside-event-in-chicago/
END:VEVENT
BEGIN:VEVENT
DTSTART;TZID=America/New_York:20120114T000000
DTEND;TZID=America/New_York:20120114T000000
DTSTAMP:20260424T164216
CREATED:20120103T193139Z
LAST-MODIFIED:20120103T193139Z
UID:58599-1326499200-1326499200@www.westpointtb.com
SUMMARY:Fair Grounds Morning at the Track and Owners Seminar
DESCRIPTION:
URL:https://www.westpointtb.com/event/fair-grounds-morning-at-the-track-and-owners-seminar/
END:VEVENT
BEGIN:VEVENT
DTSTART;TZID=America/New_York:20111106T000000
DTEND;TZID=America/New_York:20111106T000000
DTSTAMP:20260424T164216
CREATED:20111024T195918Z
LAST-MODIFIED:20111024T195918Z
UID:58578-1320537600-1320537600@www.westpointtb.com
SUMMARY:WPT Visit to Lane's End Open House in Versailles\, KY
DESCRIPTION:  \n\n	  \n\n	10:00 a.m. – 3:00 p.m. Join us for the Lane’s End Open House in Versailles\, KY \n	We’ll leave from Churchill Downs and go directly to Lane’s End followed by lunch in Midway\, KY. Contact shannon@westpointtb.com for more detailed information or to RSVP.
URL:https://www.westpointtb.com/event/wpt-visit-to-lanes-end-open-house-in-versailles-ky/
END:VEVENT
BEGIN:VEVENT
DTSTART;TZID=America/New_York:20111106T000000
DTEND;TZID=America/New_York:20111106T000000
DTSTAMP:20260424T164216
CREATED:20111024T195831Z
LAST-MODIFIED:20111024T195831Z
UID:58577-1320537600-1320537600@www.westpointtb.com
SUMMARY:WPT Churchill Downs Backstretch Tour
DESCRIPTION:  \n\n	  \n\n	6:45 a.m. – 10:00 a.m. Backstretch visit and barn tour with WPT\n	Contact shannon@westpointtb.com about limited spots available
URL:https://www.westpointtb.com/event/wpt-churchill-downs-backstretch-tour-3/
END:VEVENT
BEGIN:VEVENT
DTSTART;TZID=America/New_York:20111106T000000
DTEND;TZID=America/New_York:20111106T000000
DTSTAMP:20260424T164216
CREATED:20111018T214831Z
LAST-MODIFIED:20111018T214831Z
UID:58575-1320537600-1320537600@www.westpointtb.com
SUMMARY:Daylight Savings Time Begins- Fallback One Hour
DESCRIPTION:
URL:https://www.westpointtb.com/event/daylight-savings-time-begins-fallback-one-hour/
END:VEVENT
BEGIN:VEVENT
DTSTART;TZID=America/New_York:20111105T000000
DTEND;TZID=America/New_York:20111105T000000
DTSTAMP:20260424T164216
CREATED:20111018T214804Z
LAST-MODIFIED:20111018T214804Z
UID:58574-1320451200-1320451200@www.westpointtb.com
SUMMARY:Official Breedersâ€™ Cup After Party -KY
DESCRIPTION:9:00 p.m. – 1:00 a.m. \n\n	9:00 p.m. – 1:00 a.m. \n	Prime Lounge\n	106 W. Main Street\, Louisville\, KY 40202
URL:https://www.westpointtb.com/event/official-breedersae-cup-after-party-ky-2/
END:VEVENT
BEGIN:VEVENT
DTSTART;TZID=America/New_York:20111104T000000
DTEND;TZID=America/New_York:20111104T000000
DTSTAMP:20260424T164216
CREATED:20111018T214950Z
LAST-MODIFIED:20111018T214950Z
UID:58576-1320364800-1320364800@www.westpointtb.com
SUMMARY:WPT Breeders' Cup in Las Vegas
DESCRIPTION:  \n\n	  \n\n	  \n\n	  \n\n	Not attending Breeders’ Cup\, but still looking for a great way to watch the races and celebrate the occasion? Join Nancy Ury\, our West Coast rep\, at the Wynn Hotel in Vegas. \n\n	West Point Thoroughbreds secured a special rate at the Wynn for our Partners. The rate is $119 a night through Thursday\, 11/3 and $199 a night Friday\, 11/4 and Saturday\, 11/5. To make reservations you can contact Trudy Smuin trudy.smuin@wynnlasvegas.com or (702) 770-3074. Be prepared to give your arrival and departure date\, if you prefer 1 King bed or 2 Queen beds\, your credit card number and expiration date\, plus your billing address and phone number. \n\n	There are two shows playing at the Wynn that weekend: La Reve and Garth Brooks. Here’s a link to information on how to purchase tickets. \n\n	  \n\n	11:00 a.m. – 4:30 p.m. – Join us for a race or for the day in the bar area at the Sports Book\, look for West Point reserved tables. Racing programs will be provided. \n\n	Please RSVP to Nancy at nancy@westpointtb.com \n\n	Immediately following the last race – 6:00 p.m. meet Nancy Ury in the Parasol Up bar (located in the Wynn\, main casino floor) to say hello\, have a drink and meet up with other partners. Please RSVP to Nancy at nancy@westpointtb.com \n\n	Saturday\, November 5th \n\n	  \n\n	9:05 a.m. – 4:40 p.m. – Join us for a race or for the day in the LAFITE BALLROOM.  Tables are reserved under West Point Thoroughbred’s name.  The room is full-service: tables\, TV's\, food and bar service\, and mutual tellers to take your winning tickets! \n\n	Please RSVP to Nancy at nancy@westpointtb.com
URL:https://www.westpointtb.com/event/wpt-breeders-cup-in-las-vegas/
END:VEVENT
BEGIN:VEVENT
DTSTART;TZID=America/New_York:20111104T000000
DTEND;TZID=America/New_York:20111104T000000
DTSTAMP:20260424T164216
CREATED:20111018T214726Z
LAST-MODIFIED:20111018T214726Z
UID:58573-1320364800-1320364800@www.westpointtb.com
SUMMARY:Official Breedersâ€™ Cup After Party -KY
DESCRIPTION:9:00 p.m. – 1:00 a.m.  \n\n	9:00 p.m. – 1:00 a.m.  \n\n	Prime Lounge\n	106 W. Main Street\, Louisville\, KY 40202\n\n	West Point will not be attending this event.
URL:https://www.westpointtb.com/event/official-breedersae-cup-after-party-ky/
END:VEVENT
BEGIN:VEVENT
DTSTART;TZID=America/New_York:20111104T000000
DTEND;TZID=America/New_York:20111104T000000
DTSTAMP:20260424T164216
CREATED:20111018T214345Z
LAST-MODIFIED:20111018T214345Z
UID:58568-1320364800-1320364800@www.westpointtb.com
SUMMARY:WPT Churchill Downs Backstretch Tour
DESCRIPTION:7:30 a.m.- 10:30a.m.
URL:https://www.westpointtb.com/event/wpt-churchill-downs-backstretch-tour/
END:VEVENT
BEGIN:VEVENT
DTSTART;TZID=America/New_York:20111104T000000
DTEND;TZID=America/New_York:20111104T000000
DTSTAMP:20260424T164216
CREATED:20110117T064250Z
LAST-MODIFIED:20110117T064250Z
UID:58555-1320364800-1320364800@www.westpointtb.com
SUMMARY:Breeders' Cup Churchill Downs Louisville\, KY
DESCRIPTION:
URL:https://www.westpointtb.com/event/breeders-cup-churchill-downs-louisville-ky/
END:VEVENT
BEGIN:VEVENT
DTSTART;TZID=America/New_York:20111103T000000
DTEND;TZID=America/New_York:20111103T000000
DTSTAMP:20260424T164216
CREATED:20111018T214650Z
LAST-MODIFIED:20111018T214650Z
UID:58572-1320278400-1320278400@www.westpointtb.com
SUMMARY:Meet us in the Silks Lounge at Churchill
DESCRIPTION:2:00 p.m. – 5:00 p.m. \n\n	2:00 p.m. – 5:00 p.m. \n	Say hello and have a drink with members of the WPT team.
URL:https://www.westpointtb.com/event/meet-us-in-the-silks-lounge-at-churchill/
END:VEVENT
BEGIN:VEVENT
DTSTART;TZID=America/New_York:20111103T000000
DTEND;TZID=America/New_York:20111103T000000
DTSTAMP:20260424T164216
CREATED:20111018T214549Z
LAST-MODIFIED:20111018T214549Z
UID:58571-1320278400-1320278400@www.westpointtb.com
SUMMARY:WPT Churchill Downs Backstretch Tour
DESCRIPTION:6:45 a.m. – 10:00 a.m. \n\n	6:45 a.m. – 10:00 a.m. \n	Contact shannon@westpointtb.com about limited spots available
URL:https://www.westpointtb.com/event/wpt-churchill-downs-backstretch-tour-2/
END:VEVENT
BEGIN:VEVENT
DTSTART;TZID=America/New_York:20111102T000000
DTEND;TZID=America/New_York:20111102T000000
DTSTAMP:20260424T164216
CREATED:20111018T214509Z
LAST-MODIFIED:20111018T214509Z
UID:58570-1320192000-1320192000@www.westpointtb.com
SUMMARY:Breeders' Cup Celebrity Invitational Poker Tournament-KY
DESCRIPTION:  \n\n	  \n\n	5:30 p.m. – 1:00 a.m. \n	Hosted by poker pro Michael "The Grinder" Mizrachi\n	$230 buy-in\, with unlimited re-buys\, proceeds benefit BC Charities\n\n	\n	Location: Horseshoe Casino Southern Indiana Poker Room\n	11999 Casino Drive SE\, Elizabeth\, Indiana\n	Call 866-676-7463 to reserve your spot.\n\n	This is event is open to anyone. West Point representatives will not be attending.
URL:https://www.westpointtb.com/event/breeders-cup-celebrity-invitational-poker-tournament-ky/
END:VEVENT
BEGIN:VEVENT
DTSTART;TZID=America/New_York:20111102T000000
DTEND;TZID=America/New_York:20111102T000000
DTSTAMP:20260424T164216
CREATED:20111018T214431Z
LAST-MODIFIED:20111018T214431Z
UID:58569-1320192000-1320192000@www.westpointtb.com
SUMMARY:Itâ€™s My Derby at the Kentucky Derby Museum
DESCRIPTION:5:30 p.m. \n\n	5:30 p.m. – ?\n	Click here for a link to more information about this event which includes racing celebrities\, Derby stories and a live auction to bid on Derby 2012 experiences.
URL:https://www.westpointtb.com/event/itaes-my-derby-at-the-kentucky-derby-museum/
END:VEVENT
BEGIN:VEVENT
DTSTART;TZID=America/New_York:20111101T000000
DTEND;TZID=America/New_York:20111101T000000
DTSTAMP:20260424T164216
CREATED:20111018T214245Z
LAST-MODIFIED:20111018T214245Z
UID:58567-1320105600-1320105600@www.westpointtb.com
SUMMARY:Celebrity Jockey Bartending Event Presented by Grey Goose Vodka-KY
DESCRIPTION:7:00p.m.- 10:00p.m.  \n\n	7:00p.m.- 10:00p.m.  \n\n	Prime Lounge\, 106 W. Main Street\, Louisville\, KY 40202\n\n	West Point representatives will not be attending this event\, but it’s a great way to meet jockeys and other industry people.
URL:https://www.westpointtb.com/event/celebrity-jockey-bartending-event-presented-by-grey-goose-vodka-ky/
END:VEVENT
BEGIN:VEVENT
DTSTART;TZID=America/New_York:20110917T000000
DTEND;TZID=America/New_York:20110917T000000
DTSTAMP:20260424T164216
CREATED:20110820T174311Z
LAST-MODIFIED:20110820T174311Z
UID:58565-1316217600-1316217600@www.westpointtb.com
SUMMARY:Keeneland September Yearling Sale
DESCRIPTION:
URL:https://www.westpointtb.com/event/keeneland-september-yearling-sale-2/
END:VEVENT
BEGIN:VEVENT
DTSTART;TZID=America/New_York:20110911T000000
DTEND;TZID=America/New_York:20110911T000000
DTSTAMP:20260424T164216
CREATED:20110824T211527Z
LAST-MODIFIED:20110824T211527Z
UID:58566-1315699200-1315699200@www.westpointtb.com
SUMMARY:Conformation Clinic Keeneland Yearling Sale
DESCRIPTION:Join Jeff Lifson and Erin Finley at Keeneland Sales pavilion for a conformation clinic Sunday\, September 11th to learn what we look for in selecting prospective yearling athletes. \n\n	Join Jeff Lifson and Erin Finley at Keeneland Sales pavilion for a conformation clinic Sunday\, September 11th to learn what we look for in selecting prospective yearling athletes. If you have never attended a conformation clinic\, it is a very educational experience. \n\n	Contact Shannon Castagnola to sign up and to receive the details.
URL:https://www.westpointtb.com/event/conformation-clinic-keeneland-yearling-sale/
END:VEVENT
BEGIN:VEVENT
DTSTART;TZID=America/New_York:20110911T000000
DTEND;TZID=America/New_York:20110911T000000
DTSTAMP:20260424T164216
CREATED:20110820T173939Z
LAST-MODIFIED:20110820T173939Z
UID:58564-1315699200-1315699200@www.westpointtb.com
SUMMARY:Keeneland September Yearling Sale
DESCRIPTION:
URL:https://www.westpointtb.com/event/keeneland-september-yearling-sale/
END:VEVENT
BEGIN:VEVENT
DTSTART;TZID=America/New_York:20110902T000000
DTEND;TZID=America/New_York:20110902T000000
DTSTAMP:20260424T164216
CREATED:20110820T173634Z
LAST-MODIFIED:20110820T173634Z
UID:58563-1314921600-1314921600@www.westpointtb.com
SUMMARY:Saratoga Partner Barbecue
DESCRIPTION:Join us for lunch\, beverages\, and a fun afternoon of racing on Friday\, September 2nd on the Saratoga backside.  \n\n	Join us for lunch\, beverages\, and a fun afternoon of racing on Friday\, September 2nd on the Saratoga backside. \n	Meet on the backside at 12:30pm at the 6 furlong pole near the mutual windows. \n	Any partner or person who does not have a New York owner's license MUST have in his/her possession a visitor's pass for the backside or there will be a point in the day when security will ask you to leave.  You will need to stop by the Nelson Avenue stable gate to pick up visitor passes.  Be sure to RSVP to Shannon at shannon@westpointtb.com asap so she can put your name(s) on the WPT visitor list.
URL:https://www.westpointtb.com/event/saratoga-partner-barbecue/
END:VEVENT
BEGIN:VEVENT
DTSTART;TZID=America/New_York:20110820T000000
DTEND;TZID=America/New_York:20110820T000000
DTSTAMP:20260424T164216
CREATED:20110820T173517Z
LAST-MODIFIED:20110820T173517Z
UID:58562-1313798400-1313798400@www.westpointtb.com
SUMMARY:Del Mar Barn Picnic
DESCRIPTION:
URL:https://www.westpointtb.com/event/del-mar-barn-picnic/
END:VEVENT
BEGIN:VEVENT
DTSTART;TZID=America/New_York:20110819T000000
DTEND;TZID=America/New_York:20110819T000000
DTSTAMP:20260424T164216
CREATED:20110607T224224Z
LAST-MODIFIED:20110607T224224Z
UID:58561-1313712000-1313712000@www.westpointtb.com
SUMMARY:Sizzling Hot Pink Saratoga Hat Luncheon to Benefit Breast Cancer Research
DESCRIPTION:Debbie Finley will speak at the Sizzling Hot Pink Saratoga Hat Luncheon to benefit Breast Cancer Research at Saratoga Racecourse. \n\n	Debbie Finley will speak at the Sizzling Hot Pink Saratoga Hat Luncheon to benefit Breast Cancer Research at Saratoga Racecourse. \n\n	The mistress of ceremonies is ESPN's Jeannine Edwards and the featured guest speaker is Dr. Larry Norton. There will be an informal fashion presentation featuring collections by St. John. \n\n	More information will be available at a later date on the West Point Thoroughbreds website and nyra.com.\n	 
URL:https://www.westpointtb.com/event/sizzling-hot-pink-saratoga-hat-luncheon-to-benefit-breast-cancer-research/
END:VEVENT
BEGIN:VEVENT
DTSTART;TZID=America/New_York:20110611T000000
DTEND;TZID=America/New_York:20110611T000000
DTSTAMP:20260424T164216
CREATED:20110117T064116Z
LAST-MODIFIED:20110117T064116Z
UID:58554-1307750400-1307750400@www.westpointtb.com
SUMMARY:Belmont Stakes at Belmont Park Elmont\, NY
DESCRIPTION:The West Point Team is going to be on the grounds in Elmont\, NY leading up to the Belmont Stakes. \n\n	The West Point Team is going to be on the grounds in Elmont\, NY leading up to the Belmont Stakes. We want to take advantage of every opportunity to visit\, touch base\, and get you in front of the WPT Class of 2011. If you wish to come out any time Wednesday and Thursday to see the horses\, we will work with your schedule. Here is what is going on Belmont Stakes week. \n\n	June 8th – 9th – Make an appointment for a personal viewing of the Class of 2011. What time works for you? Please call Tom Bellhouse (856) 655-8430 directly if you would like to meet at Belmont Park to see the horses we currently have available for syndication. \n\n	Thursday\, June 9th – Attend the Thursday night Belmont Stakes Charity Celebration. The West Point Team will be in attendance to support this fundraising event\, proceeds benefit Grayson-Jockey Club Research Foundation and the Backstretch Employee Services Team. Here is the link with more information about the event and how to purchase tickets if you would like to attend. \n\n	Friday\, June 10th – Meet us at the track at 8:00 a.m. to watch horses train and visit the backstretch to see the horses we currently have available for syndication. Please RSVP to Shannon at shannon@westpointtb.com if you have questions or would like to attend. \n\n	Meet us at 3:00 p.m. at the bar on the 3rd Floor Clubhouse\, right by the finish line. The West Point Team will be there to meet and greet you if you are attending the races that day. \n\n	Saturday\, June 11th – Belmont Stakes Day…Let us know where you are sitting.\n	The West Point Team would like to stop by and say hello. Email Shannon at  shannon@westpointtb.com
URL:https://www.westpointtb.com/event/belmont-stakes-at-belmont-park-elmont-ny/
END:VEVENT
BEGIN:VEVENT
DTSTART;TZID=America/New_York:20110606T000000
DTEND;TZID=America/New_York:20110606T000000
DTSTAMP:20260424T164216
CREATED:20110601T200101Z
LAST-MODIFIED:20110601T200101Z
UID:58560-1307318400-1307318400@www.westpointtb.com
SUMMARY:New York Pletcher & Hushion 2YO Appointments Belmont Stakes Week
DESCRIPTION:Contact Tom Bellhouse at 856.655.8430 for a personal barn appointment to review the New York based two-year-olds with trainers Pletcher and Hushion. \n\n	Contact Tom Bellhouse at 856.655.8430 for a personal barn appointment to review the New York based two-year-olds with trainers Pletcher and Hushion. Todd Pletcher two-year-olds Flashy In Pink\, Forecon\, and the Lion Heart filly will be available for inspection all Belmont Stakes week. Watch training and see the Pletcher barn operations first hand. Stop by and see the Pure Prize colt with Mike Hushion.
URL:https://www.westpointtb.com/event/new-york-pletcher-hushion-2yo-appointments-belmont-stakes-week/
END:VEVENT
BEGIN:VEVENT
DTSTART;TZID=America/New_York:20110523T000000
DTEND;TZID=America/New_York:20110523T000000
DTSTAMP:20260424T164216
CREATED:20110117T063402Z
LAST-MODIFIED:20110117T063402Z
UID:58553-1306108800-1306108800@www.westpointtb.com
SUMMARY:Midlantic Two-Year-Olds In Training Sale Timonium\, MD
DESCRIPTION:
URL:https://www.westpointtb.com/event/midlantic-two-year-olds-in-training-sale-timonium-md/
END:VEVENT
BEGIN:VEVENT
DTSTART;TZID=America/New_York:20110521T000000
DTEND;TZID=America/New_York:20110521T000000
DTSTAMP:20260424T164216
CREATED:20110117T063222Z
LAST-MODIFIED:20110117T063222Z
UID:58552-1305936000-1305936000@www.westpointtb.com
SUMMARY:Preakness Stakes at Pimlico Baltimore\, MD
DESCRIPTION:
URL:https://www.westpointtb.com/event/preakness-stakes-at-pimlico-baltimore-md/
END:VEVENT
BEGIN:VEVENT
DTSTART;TZID=America/New_York:20110507T000000
DTEND;TZID=America/New_York:20110507T000000
DTSTAMP:20260424T164216
CREATED:20110117T062620Z
LAST-MODIFIED:20110117T062620Z
UID:58551-1304726400-1304726400@www.westpointtb.com
SUMMARY:West Point Event at the Wynn Hotel in Las Vegas (exact dates TBD)
DESCRIPTION:
URL:https://www.westpointtb.com/event/west-point-event-at-the-wynn-hotel-in-las-vegas-exact-dates-tbd/
END:VEVENT
BEGIN:VEVENT
DTSTART;TZID=America/New_York:20110507T000000
DTEND;TZID=America/New_York:20110507T000000
DTSTAMP:20260424T164216
CREATED:20110117T062538Z
LAST-MODIFIED:20110117T062538Z
UID:58550-1304726400-1304726400@www.westpointtb.com
SUMMARY:Kentucky Derby at Churchill Downs Louisville\, KY
DESCRIPTION:
URL:https://www.westpointtb.com/event/kentucky-derby-at-churchill-downs-louisville-ky/
END:VEVENT
BEGIN:VEVENT
DTSTART;TZID=America/New_York:20110416T000000
DTEND;TZID=America/New_York:20110416T000000
DTSTAMP:20260424T164216
CREATED:20110303T034846Z
LAST-MODIFIED:20110303T034846Z
UID:58558-1302912000-1302912000@www.westpointtb.com
SUMMARY:California Two-Year-Old Showcase Event\, Santa Anita
DESCRIPTION:Join the WPT Team and Partners for our marquis West Coast event featuring the West Coast members of the Class of 2011. \n\n	Join the WPT Team and Partners for our marquis West Coast event featuring the West Coast members of the Class of 2011. Review the horses with Terry Finley and Casey Irving and meet trainers Craig Dollase and John Sadler. Make your short list\, get insight from your advisors\, and enjoy a morning at beautiful Santa Anita Park. Then join us for a fun afternoon and lunch at the races at the "Great Race Place." \n\n	Contact Shannon Castagnola to sign up.
URL:https://www.westpointtb.com/event/california-two-year-old-showcase-event-santa-anita/
END:VEVENT
BEGIN:VEVENT
DTSTART;TZID=America/New_York:20110401T000000
DTEND;TZID=America/New_York:20110401T000000
DTSTAMP:20260424T164216
CREATED:20110303T034713Z
LAST-MODIFIED:20110303T034713Z
UID:58557-1301616000-1301616000@www.westpointtb.com
SUMMARY:Florida Two-Year-Old Showcase Event\, Ocala
DESCRIPTION:Join the WPT Team and Partners for our marquis East Coast event\, “The Gala in Ocala\,” featuring the recently completed Class of 2011. \n\n	Join the WPT Team and Partners for our marquis East Coast event\, “The Gala in Ocala\,” featuring the recently completed Class of 2011. Review the horses with Terry Finley and make your short list. Get insight from your advisors\, including Trainer David McKathan and Buzz Chace\, while enjoying the ambience of M&H Training. Socialize with energized Partners and feel the anticipation build as the horses near the final leg of their educational journey – the racetrack. Contact Shannon Castagnola to sign up.
URL:https://www.westpointtb.com/event/florida-two-year-old-showcase-event-ocala/
END:VEVENT
BEGIN:VEVENT
DTSTART;TZID=America/New_York:20110321T000000
DTEND;TZID=America/New_York:20110321T000000
DTSTAMP:20260424T164216
CREATED:20110117T062459Z
LAST-MODIFIED:20110117T062459Z
UID:58549-1300665600-1300665600@www.westpointtb.com
SUMMARY:Barretts Selected Two-Year-Olds In Training Sale at Fairplex\, Pomona\, CA
DESCRIPTION:Get the inside scoop on our target racing prospects from Terry Finley and Buzz Chace. \n\n	Get the inside scoop on our target racing prospects from Terry Finley and Buzz Chace. Contact Shannon Castagnola 859-523-6559 to sign up.
URL:https://www.westpointtb.com/event/barretts-selected-two-year-olds-in-training-sale-at-fairplex-pomona-ca/
END:VEVENT
END:VCALENDAR