BEGIN:VCALENDAR
VERSION:2.0
PRODID:-//West Point Thoroughbreds - ECPv6.15.12.2//NONSGML v1.0//EN
CALSCALE:GREGORIAN
METHOD:PUBLISH
X-WR-CALNAME:West Point Thoroughbreds
X-ORIGINAL-URL:https://www.westpointtb.com
X-WR-CALDESC:Events for West Point Thoroughbreds
REFRESH-INTERVAL;VALUE=DURATION:PT1H
X-Robots-Tag:noindex
X-PUBLISHED-TTL:PT1H
BEGIN:VTIMEZONE
TZID:America/New_York
BEGIN:DAYLIGHT
TZOFFSETFROM:-0500
TZOFFSETTO:-0400
TZNAME:EDT
DTSTART:20100314T070000
END:DAYLIGHT
BEGIN:STANDARD
TZOFFSETFROM:-0400
TZOFFSETTO:-0500
TZNAME:EST
DTSTART:20101107T060000
END:STANDARD
BEGIN:DAYLIGHT
TZOFFSETFROM:-0500
TZOFFSETTO:-0400
TZNAME:EDT
DTSTART:20110313T070000
END:DAYLIGHT
BEGIN:STANDARD
TZOFFSETFROM:-0400
TZOFFSETTO:-0500
TZNAME:EST
DTSTART:20111106T060000
END:STANDARD
BEGIN:DAYLIGHT
TZOFFSETFROM:-0500
TZOFFSETTO:-0400
TZNAME:EDT
DTSTART:20120311T070000
END:DAYLIGHT
BEGIN:STANDARD
TZOFFSETFROM:-0400
TZOFFSETTO:-0500
TZNAME:EST
DTSTART:20121104T060000
END:STANDARD
END:VTIMEZONE
BEGIN:VEVENT
DTSTART;TZID=America/New_York:20110315T000000
DTEND;TZID=America/New_York:20110315T000000
DTSTAMP:20260425T000547
CREATED:20110117T062405Z
LAST-MODIFIED:20110117T062405Z
UID:58548-1300147200-1300147200@www.westpointtb.com
SUMMARY:OBS Selected Two-Year-Olds in Training Sale\, Ocala
DESCRIPTION:Experience first hand one of the nation’s premier two-year-old sales events. Join us in Ocala\, Florida to be one of the first to see the newest athletes from the Class of 2011. \n\n	Experience first hand one of the nation’s premier two-year-old sales events. Join us in Ocala\, Florida to be one of the first to see the newest athletes from the Class of 2011. Contact Shannon Castagnola 859-523-6559 to sign up.
URL:https://www.westpointtb.com/event/obs-selected-two-year-olds-in-training-sale-ocala/
END:VEVENT
BEGIN:VEVENT
DTSTART;TZID=America/New_York:20110314T000000
DTEND;TZID=America/New_York:20110314T000000
DTSTAMP:20260425T000547
CREATED:20110310T025304Z
LAST-MODIFIED:20110310T025304Z
UID:58559-1300060800-1300060800@www.westpointtb.com
SUMMARY:OBS Day of Champions Races Ocala FL
DESCRIPTION:Meet up with Tom Bellhouse\, Jeff Lifson and Terry Finley at the OBS Championship races. \n\n	Meet up with Tom Bellhouse\, Jeff Lifson and Terry Finley at the OBS Championship races. Contact Shannon Castagnola 859-523-6559 if you plan to attend and she will let the Ocala team know.
URL:https://www.westpointtb.com/event/obs-day-of-champions-races-ocala-fl/
END:VEVENT
BEGIN:VEVENT
DTSTART;TZID=America/New_York:20110303T000000
DTEND;TZID=America/New_York:20110303T000000
DTSTAMP:20260425T000547
CREATED:20110111T022430Z
LAST-MODIFIED:20110111T022430Z
UID:58545-1299110400-1299110400@www.westpointtb.com
SUMMARY:Fasig-Tipton Two-Year-Olds In Training Sale at Palm Meadows
DESCRIPTION:Go behind the scenes of the first major two-year-old sales event at the lovely Palm Meadows Training Facility in Boynton Beach\, FL. \n\n	Go behind the scenes of the first major two-year-old sales event at the lovely Palm Meadows Training Facility in Boynton Beach\, FL. Get the inside scoop on our target racing prospects from Terry Finley and Buzz Chace. Contact Casey Irving to sign up.
URL:https://www.westpointtb.com/event/fasig-tipton-two-year-olds-in-training-sale-at-palm-meadows/
END:VEVENT
BEGIN:VEVENT
DTSTART;TZID=America/New_York:20110303T000000
DTEND;TZID=America/New_York:20110303T000000
DTSTAMP:20260425T000547
CREATED:20110111T022341Z
LAST-MODIFIED:20110111T022341Z
UID:58544-1299110400-1299110400@www.westpointtb.com
SUMMARY:Training Center Meet Up
DESCRIPTION:Join Partners and West Point team members in Ocala\, Florida to see our two-year-olds train and enjoy time with West Point team members. \nJoin Partners and West Point team members in Ocala\, Florida to see our two-year-olds train and enjoy time with West Point team members. Contact Casey Irving to sign up.
URL:https://www.westpointtb.com/event/training-center-meet-up/
END:VEVENT
BEGIN:VEVENT
DTSTART;TZID=America/New_York:20110219T000000
DTEND;TZID=America/New_York:20110219T000000
DTSTAMP:20260425T000547
CREATED:20110117T062230Z
LAST-MODIFIED:20110117T062230Z
UID:58547-1298073600-1298073600@www.westpointtb.com
SUMMARY:Fairgrounds Day at the Races Risen Star Stakes
DESCRIPTION:Meet us at the track for the afternoon races including a Derby prep. Find out Jeff’s take on the progressing 2-year-olds. \n\n	Meet us at the track for the afternoon races including a Derby prep. Find out Jeff’s take on the progressing 2-year-olds. Contact Shannon Castagnola to sign up. Feel free to invite a friend who might be interested in learning more about Thoroughbred ownership and be sure to let Shannon know.
URL:https://www.westpointtb.com/event/fairgrounds-day-at-the-races-risen-star-stakes/
END:VEVENT
BEGIN:VEVENT
DTSTART;TZID=America/New_York:20110218T000000
DTEND;TZID=America/New_York:20110218T000000
DTSTAMP:20260425T000547
CREATED:20110117T062028Z
LAST-MODIFIED:20110117T062028Z
UID:58546-1297987200-1297987200@www.westpointtb.com
SUMMARY:Drago's Social New Orleans\, LA
DESCRIPTION:Join Jeff Lifson at Drago’s to get the latest intel on the babies and socialize with West Point Partners on the eve of the Risen Star Stakes. \n\n	Join Jeff Lifson at Drago’s to get the latest intel on the babies and socialize with West Point Partners on the eve of the Risen Star Stakes. Contact Shannon Castagnola to sign up.
URL:https://www.westpointtb.com/event/dragos-social-new-orleans-la/
END:VEVENT
BEGIN:VEVENT
DTSTART;TZID=America/New_York:20110212T000000
DTEND;TZID=America/New_York:20110212T000000
DTSTAMP:20260425T000547
CREATED:20110303T033956Z
LAST-MODIFIED:20110303T033956Z
UID:58556-1297468800-1297468800@www.westpointtb.com
SUMMARY:Training Center Meet Up\, Ocala Florida 7:15am-10am
DESCRIPTION:Join Partners and West Point team members in Ocala\, Florida at M&H Training Center to see our two-year-olds train at this informal event. \n\n	Join Partners and West Point team members in Ocala\, Florida at M&H Training Center to see our two-year-olds train at this informal event. Watch the current horses on the track and get up close and personal with them at the barn. \n\n	Attendees will meet in the lobby of the Ocala Hilton (3600 SW 36th Avenue\, Ocala\, FL 34474) at 7:15am for directions and to caravan to the center. If you are in town Friday night\, let us know so we might meet up for a drink. \n\n	If you need a room Friday 2/11\, call 877-602-4023 and ask for the West Point Group rate. Room rate will be held until 2/2.
URL:https://www.westpointtb.com/event/training-center-meet-up-ocala-florida-715am-10am/
END:VEVENT
END:VCALENDAR